BEGIN:VCALENDAR
VERSION:2.0
PRODID:-//Explore Sterling, Colorado - ECPv6.13.1//NONSGML v1.0//EN
CALSCALE:GREGORIAN
METHOD:PUBLISH
X-ORIGINAL-URL:https://www.exploresterling.com
X-WR-CALDESC:Events for Explore Sterling, Colorado
REFRESH-INTERVAL;VALUE=DURATION:PT1H
X-Robots-Tag:noindex
X-PUBLISHED-TTL:PT1H
BEGIN:VTIMEZONE
TZID:America/Denver
BEGIN:DAYLIGHT
TZOFFSETFROM:-0700
TZOFFSETTO:-0600
TZNAME:MDT
DTSTART:20250309T090000
END:DAYLIGHT
BEGIN:STANDARD
TZOFFSETFROM:-0600
TZOFFSETTO:-0700
TZNAME:MST
DTSTART:20251102T080000
END:STANDARD
END:VTIMEZONE
BEGIN:VEVENT
DTSTART;TZID=America/Denver:20250823T070000
DTEND;TZID=America/Denver:20250823T130000
DTSTAMP:20260420T060117
CREATED:20250530T215046Z
LAST-MODIFIED:20250530T215046Z
UID:10000011-1755932400-1755954000@www.exploresterling.com
SUMMARY:Flea Market - Downtown Sterling
DESCRIPTION:
URL:https://www.exploresterling.com/event/flea-market-downtown-sterling-3/
LOCATION:Christ Metodist Church back lot\, 104 South 4th Street\, Sterling
END:VEVENT
BEGIN:VEVENT
DTSTART;TZID=America/Denver:20250726T070000
DTEND;TZID=America/Denver:20250726T130000
DTSTAMP:20260420T060117
CREATED:20250530T214722Z
LAST-MODIFIED:20250530T214722Z
UID:10000009-1753513200-1753534800@www.exploresterling.com
SUMMARY:Flea Market - Downtown Sterling
DESCRIPTION:
URL:https://www.exploresterling.com/event/flea-market-downtown-sterling-2/
LOCATION:Christ Metodist Church back lot\, 104 South 4th Street\, Sterling
END:VEVENT
BEGIN:VEVENT
DTSTART;TZID=America/Denver:20250607T070000
DTEND;TZID=America/Denver:20250607T130000
DTSTAMP:20260420T060117
CREATED:20250530T214111Z
LAST-MODIFIED:20250530T214407Z
UID:10000008-1749279600-1749301200@www.exploresterling.com
SUMMARY:Flea Market - Downtown Sterling
DESCRIPTION:
URL:https://www.exploresterling.com/event/flea-market-downtown-sterling/
LOCATION:Christ Metodist Church back lot\, 104 South 4th Street\, Sterling
END:VEVENT
END:VCALENDAR