BEGIN:VCALENDAR
VERSION:2.0
PRODID:-//Explore Sterling, Colorado - ECPv6.13.1//NONSGML v1.0//EN
CALSCALE:GREGORIAN
METHOD:PUBLISH
X-WR-CALNAME:Explore Sterling, Colorado
X-ORIGINAL-URL:https://www.exploresterling.com
X-WR-CALDESC:Events for Explore Sterling, Colorado
REFRESH-INTERVAL;VALUE=DURATION:PT1H
X-Robots-Tag:noindex
X-PUBLISHED-TTL:PT1H
BEGIN:VTIMEZONE
TZID:America/Denver
BEGIN:DAYLIGHT
TZOFFSETFROM:-0700
TZOFFSETTO:-0600
TZNAME:MDT
DTSTART:20250309T090000
END:DAYLIGHT
BEGIN:STANDARD
TZOFFSETFROM:-0600
TZOFFSETTO:-0700
TZNAME:MST
DTSTART:20251102T080000
END:STANDARD
END:VTIMEZONE
BEGIN:VEVENT
DTSTART;TZID=America/Denver:20251204T180000
DTEND;TZID=America/Denver:20251204T190000
DTSTAMP:20260420T070009
CREATED:20251126T185452Z
LAST-MODIFIED:20251126T185452Z
UID:10000060-1764871200-1764874800@www.exploresterling.com
SUMMARY:Parade of Lights
DESCRIPTION:Get ready for twinkling floats\, festive music\, and small-town magic under the stars. The Parade of Lights rolls through downtown Sterling on December 4 at 6 p.m.\, filling the streets with holiday glow and hometown pride. \nBring your family\, grab a mug of cocoa\, and find your spot along the route — this is one parade you won’t want to miss. \nGet parade details here.
URL:https://www.exploresterling.com/event/parade-of-lights/
LOCATION:Downtown Sterling\, Sterling\, CO\, 80751\, United States
ATTACH;FMTTYPE=image/jpeg:https://www.exploresterling.com/wp-content/uploads/2025/11/paradeoflights-e1764183281328.jpeg
END:VEVENT
END:VCALENDAR