BEGIN:VCALENDAR
VERSION:2.0
PRODID:-//Explore Sterling, Colorado - ECPv6.13.1//NONSGML v1.0//EN
CALSCALE:GREGORIAN
METHOD:PUBLISH
X-ORIGINAL-URL:https://www.exploresterling.com
X-WR-CALDESC:Events for Explore Sterling, Colorado
REFRESH-INTERVAL;VALUE=DURATION:PT1H
X-Robots-Tag:noindex
X-PUBLISHED-TTL:PT1H
BEGIN:VTIMEZONE
TZID:America/Denver
BEGIN:DAYLIGHT
TZOFFSETFROM:-0700
TZOFFSETTO:-0600
TZNAME:MDT
DTSTART:20250309T090000
END:DAYLIGHT
BEGIN:STANDARD
TZOFFSETFROM:-0600
TZOFFSETTO:-0700
TZNAME:MST
DTSTART:20251102T080000
END:STANDARD
END:VTIMEZONE
BEGIN:VEVENT
DTSTART;TZID=America/Denver:20251206T090000
DTEND;TZID=America/Denver:20251206T130000
DTSTAMP:20260420T053621
CREATED:20251126T192434Z
LAST-MODIFIED:20251126T192434Z
UID:10000067-1765011600-1765026000@www.exploresterling.com
SUMMARY:First English Lutheran Christmas Market
DESCRIPTION:Get ready to jingle all the way to First English Lutheran Church for another merry and magical Christmas bazaar!
URL:https://www.exploresterling.com/event/first-english-lutheran-christmas-market-2/
LOCATION:First English Lutheran Church\, 701 Fairhurst St.\, Sterling\, CO\, 80751\, United States
ATTACH;FMTTYPE=image/jpeg:https://www.exploresterling.com/wp-content/uploads/2025/11/568454236_872677328451888_7285125426858897161_n-e1764184978931.jpg
END:VEVENT
BEGIN:VEVENT
DTSTART;TZID=America/Denver:20251205T160000
DTEND;TZID=America/Denver:20251205T190000
DTSTAMP:20260420T053621
CREATED:20251126T192306Z
LAST-MODIFIED:20251126T192306Z
UID:10000066-1764950400-1764961200@www.exploresterling.com
SUMMARY:First English Lutheran Christmas Market
DESCRIPTION:Get ready to jingle all the way to First English Lutheran Church for another merry and magical Christmas bazaar!
URL:https://www.exploresterling.com/event/first-english-lutheran-christmas-market/
LOCATION:First English Lutheran Church\, 701 Fairhurst St.\, Sterling\, CO\, 80751\, United States
ATTACH;FMTTYPE=image/jpeg:https://www.exploresterling.com/wp-content/uploads/2025/11/568454236_872677328451888_7285125426858897161_n-e1764184978931.jpg
END:VEVENT
END:VCALENDAR